BEGIN:VCALENDAR
VERSION:2.0
PRODID:-//GBEP - ECPv6.15.20//NONSGML v1.0//EN
CALSCALE:GREGORIAN
METHOD:PUBLISH
X-WR-CALNAME:GBEP
X-ORIGINAL-URL:https://gbep.texas.gov
X-WR-CALDESC:Events for GBEP
REFRESH-INTERVAL;VALUE=DURATION:PT1H
X-Robots-Tag:noindex
X-PUBLISHED-TTL:PT1H
BEGIN:VTIMEZONE
TZID:UTC
BEGIN:STANDARD
TZOFFSETFROM:+0000
TZOFFSETTO:+0000
TZNAME:UTC
DTSTART:20170101T000000
END:STANDARD
END:VTIMEZONE
BEGIN:VEVENT
DTSTART;TZID=UTC:20180912T090000
DTEND;TZID=UTC:20180912T120000
DTSTAMP:20260421T203121
CREATED:20180724T222628Z
LAST-MODIFIED:20180827T202030Z
UID:1029-1536742800-1536753600@gbep.texas.gov
SUMMARY:Monitoring and Research Subcommittee Meeting
DESCRIPTION:
URL:https://gbep.texas.gov/calendar/monitoring-and-research-subcommittee-meeting/
LOCATION:17041 El Camino Real\, Suite 210\, Houston\, TX 77508\, 17041 El Camino Real\, Suite 210\, Houston\, TX 77508\, Houston\, TX\, 77508\, United States
END:VEVENT
END:VCALENDAR