BEGIN:VCALENDAR
VERSION:2.0
PRODID:-//GBEP - ECPv6.15.20//NONSGML v1.0//EN
CALSCALE:GREGORIAN
METHOD:PUBLISH
X-WR-CALNAME:GBEP
X-ORIGINAL-URL:https://gbep.texas.gov
X-WR-CALDESC:Events for GBEP
REFRESH-INTERVAL;VALUE=DURATION:PT1H
X-Robots-Tag:noindex
X-PUBLISHED-TTL:PT1H
BEGIN:VTIMEZONE
TZID:America/Chicago
BEGIN:DAYLIGHT
TZOFFSETFROM:-0600
TZOFFSETTO:-0500
TZNAME:CDT
DTSTART:20180311T080000
END:DAYLIGHT
BEGIN:STANDARD
TZOFFSETFROM:-0500
TZOFFSETTO:-0600
TZNAME:CST
DTSTART:20181104T070000
END:STANDARD
BEGIN:DAYLIGHT
TZOFFSETFROM:-0600
TZOFFSETTO:-0500
TZNAME:CDT
DTSTART:20190310T080000
END:DAYLIGHT
BEGIN:STANDARD
TZOFFSETFROM:-0500
TZOFFSETTO:-0600
TZNAME:CST
DTSTART:20191103T070000
END:STANDARD
BEGIN:DAYLIGHT
TZOFFSETFROM:-0600
TZOFFSETTO:-0500
TZNAME:CDT
DTSTART:20200308T080000
END:DAYLIGHT
BEGIN:STANDARD
TZOFFSETFROM:-0500
TZOFFSETTO:-0600
TZNAME:CST
DTSTART:20201101T070000
END:STANDARD
END:VTIMEZONE
BEGIN:VEVENT
DTSTART;TZID=America/Chicago:20190604T130000
DTEND;TZID=America/Chicago:20190604T153000
DTSTAMP:20260421T182009
CREATED:20190430T193022Z
LAST-MODIFIED:20190430T193022Z
UID:2036-1559653200-1559662200@gbep.texas.gov
SUMMARY:Bacteria Implementation Group (BIG) Meeting
DESCRIPTION:
URL:https://gbep.texas.gov/calendar/bacteria-implementation-group-big-meeting/
LOCATION:Houston-Galveston Area Council\, 3555 Timmons Ln\, Houston\, TX\, 77027\, United States
END:VEVENT
END:VCALENDAR