BEGIN:VCALENDAR
VERSION:2.0
PRODID:-//GBEP - ECPv6.15.20//NONSGML v1.0//EN
CALSCALE:GREGORIAN
METHOD:PUBLISH
X-WR-CALNAME:GBEP
X-ORIGINAL-URL:https://gbep.texas.gov
X-WR-CALDESC:Events for GBEP
REFRESH-INTERVAL;VALUE=DURATION:PT1H
X-Robots-Tag:noindex
X-PUBLISHED-TTL:PT1H
BEGIN:VTIMEZONE
TZID:America/Chicago
BEGIN:DAYLIGHT
TZOFFSETFROM:-0600
TZOFFSETTO:-0500
TZNAME:CDT
DTSTART:20200308T080000
END:DAYLIGHT
BEGIN:STANDARD
TZOFFSETFROM:-0500
TZOFFSETTO:-0600
TZNAME:CST
DTSTART:20201101T070000
END:STANDARD
BEGIN:DAYLIGHT
TZOFFSETFROM:-0600
TZOFFSETTO:-0500
TZNAME:CDT
DTSTART:20210314T080000
END:DAYLIGHT
BEGIN:STANDARD
TZOFFSETFROM:-0500
TZOFFSETTO:-0600
TZNAME:CST
DTSTART:20211107T070000
END:STANDARD
BEGIN:DAYLIGHT
TZOFFSETFROM:-0600
TZOFFSETTO:-0500
TZNAME:CDT
DTSTART:20220313T080000
END:DAYLIGHT
BEGIN:STANDARD
TZOFFSETFROM:-0500
TZOFFSETTO:-0600
TZNAME:CST
DTSTART:20221106T070000
END:STANDARD
END:VTIMEZONE
BEGIN:VEVENT
DTSTART;TZID=America/Chicago:20210310T093000
DTEND;TZID=America/Chicago:20210310T113000
DTSTAMP:20260421T122011
CREATED:20201210T150711Z
LAST-MODIFIED:20201210T150711Z
UID:2888-1615368600-1615375800@gbep.texas.gov
SUMMARY:Monitoring & Research Subcommittee Virtual Meeting
DESCRIPTION:Email Kristen McGovern with questions at Kristen.McGovern@tceq.texas.gov.
URL:https://gbep.texas.gov/calendar/monitoring-research-subcommittee-virtual-meeting-2/
LOCATION:Virtual Meeting\, Microsoft Teams
END:VEVENT
BEGIN:VEVENT
DTSTART;TZID=America/Chicago:20210310T133000
DTEND;TZID=America/Chicago:20210310T153000
DTSTAMP:20260421T122011
CREATED:20201210T150833Z
LAST-MODIFIED:20201210T150833Z
UID:2890-1615383000-1615390200@gbep.texas.gov
SUMMARY:Water & Sediment Quality Subcommittee Virtual Meeting
DESCRIPTION:Email Christian Rines with questions at Christian.Rines@tceq.texas.gov.
URL:https://gbep.texas.gov/calendar/water-sediment-quality-subcommittee-virtual-meeting-2/
LOCATION:Virtual Meeting\, Microsoft Teams
END:VEVENT
END:VCALENDAR