BEGIN:VCALENDAR
VERSION:2.0
PRODID:-//GBEP - ECPv6.15.20//NONSGML v1.0//EN
CALSCALE:GREGORIAN
METHOD:PUBLISH
X-WR-CALNAME:GBEP
X-ORIGINAL-URL:https://gbep.texas.gov
X-WR-CALDESC:Events for GBEP
REFRESH-INTERVAL;VALUE=DURATION:PT1H
X-Robots-Tag:noindex
X-PUBLISHED-TTL:PT1H
BEGIN:VTIMEZONE
TZID:America/Chicago
BEGIN:DAYLIGHT
TZOFFSETFROM:-0600
TZOFFSETTO:-0500
TZNAME:CDT
DTSTART:20180311T080000
END:DAYLIGHT
BEGIN:STANDARD
TZOFFSETFROM:-0500
TZOFFSETTO:-0600
TZNAME:CST
DTSTART:20181104T070000
END:STANDARD
BEGIN:DAYLIGHT
TZOFFSETFROM:-0600
TZOFFSETTO:-0500
TZNAME:CDT
DTSTART:20190310T080000
END:DAYLIGHT
BEGIN:STANDARD
TZOFFSETFROM:-0500
TZOFFSETTO:-0600
TZNAME:CST
DTSTART:20191103T070000
END:STANDARD
BEGIN:DAYLIGHT
TZOFFSETFROM:-0600
TZOFFSETTO:-0500
TZNAME:CDT
DTSTART:20200308T080000
END:DAYLIGHT
BEGIN:STANDARD
TZOFFSETFROM:-0500
TZOFFSETTO:-0600
TZNAME:CST
DTSTART:20201101T070000
END:STANDARD
END:VTIMEZONE
BEGIN:VEVENT
DTSTART;TZID=America/Chicago:20191016T093000
DTEND;TZID=America/Chicago:20191016T133000
DTSTAMP:20260424T072413
CREATED:20190314T152328Z
LAST-MODIFIED:20190314T152328Z
UID:1996-1571218200-1571232600@gbep.texas.gov
SUMMARY:Galveston Bay Council Meeting
DESCRIPTION:
URL:https://gbep.texas.gov/calendar/galveston-bay-council-meeting-5/
LOCATION:Harris-Galveston Subsidence District\, 1660 West Bay Area Blvd.\, Friendswood\, TX\, 77549\, United States
END:VEVENT
BEGIN:VEVENT
DTSTART;TZID=America/Chicago:20191029T090000
DTEND;TZID=America/Chicago:20191029T170000
DTSTAMP:20260424T072413
CREATED:20191023T144939Z
LAST-MODIFIED:20191023T145052Z
UID:2205-1572339600-1572368400@gbep.texas.gov
SUMMARY:Texas Plastic Pollution Symposium
DESCRIPTION:
URL:https://gbep.texas.gov/calendar/texas-plastic-pollution-symposium/
LOCATION:Moody Gardens\, 7 Hope Blvd\, Galveston\, TX\, 77554
END:VEVENT
BEGIN:VEVENT
DTSTART;TZID=America/Chicago:20191030T080000
DTEND;TZID=America/Chicago:20191030T170000
DTSTAMP:20260424T072413
CREATED:20191023T145306Z
LAST-MODIFIED:20191023T145306Z
UID:2207-1572422400-1572454800@gbep.texas.gov
SUMMARY:16th Annual Bayou Preservation Association Symposium
DESCRIPTION:
URL:https://gbep.texas.gov/calendar/16th-annual-bayou-preservation-association-symposium/
LOCATION:50 Waugh Dr\, Houston\, TX 77007
END:VEVENT
END:VCALENDAR