BEGIN:VCALENDAR
VERSION:2.0
PRODID:-//GBEP - ECPv6.15.20//NONSGML v1.0//EN
CALSCALE:GREGORIAN
METHOD:PUBLISH
X-ORIGINAL-URL:https://gbep.texas.gov
X-WR-CALDESC:Events for GBEP
REFRESH-INTERVAL;VALUE=DURATION:PT1H
X-Robots-Tag:noindex
X-PUBLISHED-TTL:PT1H
BEGIN:VTIMEZONE
TZID:America/Chicago
BEGIN:DAYLIGHT
TZOFFSETFROM:-0600
TZOFFSETTO:-0500
TZNAME:CDT
DTSTART:20190310T080000
END:DAYLIGHT
BEGIN:STANDARD
TZOFFSETFROM:-0500
TZOFFSETTO:-0600
TZNAME:CST
DTSTART:20191103T070000
END:STANDARD
BEGIN:DAYLIGHT
TZOFFSETFROM:-0600
TZOFFSETTO:-0500
TZNAME:CDT
DTSTART:20200308T080000
END:DAYLIGHT
BEGIN:STANDARD
TZOFFSETFROM:-0500
TZOFFSETTO:-0600
TZNAME:CST
DTSTART:20201101T070000
END:STANDARD
BEGIN:DAYLIGHT
TZOFFSETFROM:-0600
TZOFFSETTO:-0500
TZNAME:CDT
DTSTART:20210314T080000
END:DAYLIGHT
BEGIN:STANDARD
TZOFFSETFROM:-0500
TZOFFSETTO:-0600
TZNAME:CST
DTSTART:20211107T070000
END:STANDARD
END:VTIMEZONE
BEGIN:VEVENT
DTSTART;TZID=America/Chicago:20200121T170000
DTEND;TZID=America/Chicago:20200121T190000
DTSTAMP:20260420T123907
CREATED:20190315T143739Z
LAST-MODIFIED:20191211T181301Z
UID:2000-1579626000-1579633200@gbep.texas.gov
SUMMARY:Galveston Bay Council Meeting
DESCRIPTION:
URL:https://gbep.texas.gov/calendar/galveston-bay-council-meeting-6/
LOCATION:Moody Gardens\, 7 Hope Blvd\, Galveston\, TX\, 77554
END:VEVENT
BEGIN:VEVENT
DTSTART;TZID=America/Chicago:20200122T073000
DTEND;TZID=America/Chicago:20200122T173000
DTSTAMP:20260420T123907
CREATED:20191015T192049Z
LAST-MODIFIED:20191023T145655Z
UID:2172-1579678200-1579714200@gbep.texas.gov
SUMMARY:State of the Bay Symposium
DESCRIPTION:
URL:https://gbep.texas.gov/calendar/state-of-the-bay-symposium/
LOCATION:Moody Gardens\, 7 Hope Blvd\, Galveston\, TX\, 77554
END:VEVENT
BEGIN:VEVENT
DTSTART;TZID=America/Chicago:20200123T073000
DTEND;TZID=America/Chicago:20200123T170000
DTSTAMP:20260420T123907
CREATED:20191015T192410Z
LAST-MODIFIED:20191023T145713Z
UID:2179-1579764600-1579798800@gbep.texas.gov
SUMMARY:State of the Bay Symposium
DESCRIPTION:
URL:https://gbep.texas.gov/calendar/state-of-the-bay-symposium-2/
LOCATION:Moody Gardens\, 7 Hope Blvd\, Galveston\, TX\, 77554
END:VEVENT
END:VCALENDAR