BEGIN:VCALENDAR
VERSION:2.0
PRODID:-//GBEP - ECPv6.15.20//NONSGML v1.0//EN
CALSCALE:GREGORIAN
METHOD:PUBLISH
X-WR-CALNAME:GBEP
X-ORIGINAL-URL:https://gbep.texas.gov
X-WR-CALDESC:Events for GBEP
REFRESH-INTERVAL;VALUE=DURATION:PT1H
X-Robots-Tag:noindex
X-PUBLISHED-TTL:PT1H
BEGIN:VTIMEZONE
TZID:America/Chicago
BEGIN:DAYLIGHT
TZOFFSETFROM:-0600
TZOFFSETTO:-0500
TZNAME:CDT
DTSTART:20210314T080000
END:DAYLIGHT
BEGIN:STANDARD
TZOFFSETFROM:-0500
TZOFFSETTO:-0600
TZNAME:CST
DTSTART:20211107T070000
END:STANDARD
BEGIN:DAYLIGHT
TZOFFSETFROM:-0600
TZOFFSETTO:-0500
TZNAME:CDT
DTSTART:20220313T080000
END:DAYLIGHT
BEGIN:STANDARD
TZOFFSETFROM:-0500
TZOFFSETTO:-0600
TZNAME:CST
DTSTART:20221106T070000
END:STANDARD
BEGIN:DAYLIGHT
TZOFFSETFROM:-0600
TZOFFSETTO:-0500
TZNAME:CDT
DTSTART:20230312T080000
END:DAYLIGHT
BEGIN:STANDARD
TZOFFSETFROM:-0500
TZOFFSETTO:-0600
TZNAME:CST
DTSTART:20231105T070000
END:STANDARD
END:VTIMEZONE
BEGIN:VEVENT
DTSTART;TZID=America/Chicago:20220608T093000
DTEND;TZID=America/Chicago:20220608T113000
DTSTAMP:20260420T003428
CREATED:20220505T200719Z
LAST-MODIFIED:20220505T200719Z
UID:3293-1654680600-1654687800@gbep.texas.gov
SUMMARY:Monitoring & Research Subcommittee Meeting
DESCRIPTION:Email Lisa Marshall with questions at Lisa.Marshall@tceq.texas.gov.
URL:https://gbep.texas.gov/calendar/monitoring-research-subcommittee-meeting-4/
END:VEVENT
BEGIN:VEVENT
DTSTART;TZID=America/Chicago:20220608T133000
DTEND;TZID=America/Chicago:20220608T153000
DTSTAMP:20260420T003428
CREATED:20220505T200247Z
LAST-MODIFIED:20220505T200247Z
UID:3291-1654695000-1654702200@gbep.texas.gov
SUMMARY:Water & Sediment Quality Subcommittee Meeting
DESCRIPTION:Email Christian Rines with questions at Christian.Rines@tceq.texas.gov.
URL:https://gbep.texas.gov/calendar/water-sediment-quality-subcommittee-meeting-3/
END:VEVENT
BEGIN:VEVENT
DTSTART;TZID=America/Chicago:20220615T100000
DTEND;TZID=America/Chicago:20220615T120000
DTSTAMP:20260420T003428
CREATED:20220505T201004Z
LAST-MODIFIED:20220509T154553Z
UID:3294-1655287200-1655294400@gbep.texas.gov
SUMMARY:Public Participation and Education Subcommittee Meeting
DESCRIPTION:Email Lisa Marshall with questions at Lisa.Marshall@tceq.texas.gov.
URL:https://gbep.texas.gov/calendar/public-participation-and-education-subcommittee-meeting-6/
END:VEVENT
BEGIN:VEVENT
DTSTART;TZID=America/Chicago:20220622T093000
DTEND;TZID=America/Chicago:20220622T113000
DTSTAMP:20260420T003428
CREATED:20220505T201137Z
LAST-MODIFIED:20220505T201137Z
UID:3295-1655890200-1655897400@gbep.texas.gov
SUMMARY:Natural Resource Uses Subcommittee Meeting
DESCRIPTION:Email Lindsey Lippert with questions at Lindsey.Lippert@tceq.texas.gov.
URL:https://gbep.texas.gov/calendar/natural-resource-uses-subcommittee-meeting-3/
END:VEVENT
END:VCALENDAR