BEGIN:VCALENDAR
VERSION:2.0
PRODID:-//GBEP - ECPv6.15.20//NONSGML v1.0//EN
CALSCALE:GREGORIAN
METHOD:PUBLISH
X-WR-CALNAME:GBEP
X-ORIGINAL-URL:https://gbep.texas.gov
X-WR-CALDESC:Events for GBEP
REFRESH-INTERVAL;VALUE=DURATION:PT1H
X-Robots-Tag:noindex
X-PUBLISHED-TTL:PT1H
BEGIN:VTIMEZONE
TZID:America/Chicago
BEGIN:DAYLIGHT
TZOFFSETFROM:-0600
TZOFFSETTO:-0500
TZNAME:CDT
DTSTART:20210314T080000
END:DAYLIGHT
BEGIN:STANDARD
TZOFFSETFROM:-0500
TZOFFSETTO:-0600
TZNAME:CST
DTSTART:20211107T070000
END:STANDARD
BEGIN:DAYLIGHT
TZOFFSETFROM:-0600
TZOFFSETTO:-0500
TZNAME:CDT
DTSTART:20220313T080000
END:DAYLIGHT
BEGIN:STANDARD
TZOFFSETFROM:-0500
TZOFFSETTO:-0600
TZNAME:CST
DTSTART:20221106T070000
END:STANDARD
BEGIN:DAYLIGHT
TZOFFSETFROM:-0600
TZOFFSETTO:-0500
TZNAME:CDT
DTSTART:20230312T080000
END:DAYLIGHT
BEGIN:STANDARD
TZOFFSETFROM:-0500
TZOFFSETTO:-0600
TZNAME:CST
DTSTART:20231105T070000
END:STANDARD
END:VTIMEZONE
BEGIN:VEVENT
DTSTART;TZID=America/Chicago:20220712T090000
DTEND;TZID=America/Chicago:20220712T110000
DTSTAMP:20260419T232237
CREATED:20220505T201645Z
LAST-MODIFIED:20220505T201645Z
UID:3296-1657616400-1657623600@gbep.texas.gov
SUMMARY:Budget & Priorities Subcommittee Meeting
DESCRIPTION:Email Lisa Marshall with questions at Lisa.Marshall@tceq.texas.gov
URL:https://gbep.texas.gov/calendar/budget-priorities-subcommittee-meeting-3/
END:VEVENT
BEGIN:VEVENT
DTSTART;TZID=America/Chicago:20220720T093000
DTEND;TZID=America/Chicago:20220720T123000
DTSTAMP:20260419T232237
CREATED:20220505T201741Z
LAST-MODIFIED:20220505T201741Z
UID:3297-1658309400-1658320200@gbep.texas.gov
SUMMARY:Galveston Bay Council Meeting
DESCRIPTION:Email Lisa Marshall with questions at Lisa.Marshall@tceq.texas.gov.
URL:https://gbep.texas.gov/calendar/galveston-bay-council-meeting-7/
END:VEVENT
END:VCALENDAR