BEGIN:VCALENDAR
VERSION:2.0
PRODID:-//GBEP - ECPv4.6.23//NONSGML v1.0//EN
CALSCALE:GREGORIAN
METHOD:PUBLISH
X-WR-CALNAME:GBEP
X-ORIGINAL-URL:https://gbep.texas.gov
X-WR-CALDESC:Events for GBEP
BEGIN:VEVENT
DTSTART;TZID=UTC-6:20190507T090000
DTEND;TZID=UTC-6:20190507T150000
DTSTAMP:20210617T223150
CREATED:20190430T165816Z
LAST-MODIFIED:20190430T165816Z
UID:2014-1557219600-1557241200@gbep.texas.gov
SUMMARY:Trash Summit Meeting
DESCRIPTION:
URL:https://gbep.texas.gov/calendar1/trash-summit-meeting/
LOCATION:Houston Zoo\, 6200 Herman Park Drive\, Houston\, TX\, 77030\, United States
END:VEVENT
END:VCALENDAR