BEGIN:VCALENDAR
VERSION:2.0
PRODID:-//GBEP - ECPv4.6.23//NONSGML v1.0//EN
CALSCALE:GREGORIAN
METHOD:PUBLISH
X-WR-CALNAME:GBEP
X-ORIGINAL-URL:https://gbep.texas.gov
X-WR-CALDESC:Events for GBEP
BEGIN:VEVENT
DTSTART;TZID=UTC-6:20210707T090000
DTEND;TZID=UTC-6:20210707T110000
DTSTAMP:20211010T023821
CREATED:20210115T160826Z
LAST-MODIFIED:20210115T160826Z
UID:2924-1625648400-1625655600@gbep.texas.gov
SUMMARY:Budget & Priorities Subcommittee Meeting
DESCRIPTION:Email Lisa Marshall with questions at Lisa.Marshall@tceq.texas.gov. \n
URL:https://gbep.texas.gov/calendar1/budget-priorities-subcommittee-meeting/
END:VEVENT
END:VCALENDAR