BEGIN:VCALENDAR
VERSION:2.0
PRODID:-//GBEP - ECPv4.6.23//NONSGML v1.0//EN
CALSCALE:GREGORIAN
METHOD:PUBLISH
X-WR-CALNAME:GBEP
X-ORIGINAL-URL:https://gbep.texas.gov
X-WR-CALDESC:Events for GBEP
BEGIN:VEVENT
DTSTART;TZID=UTC-6:20210406T090000
DTEND;TZID=UTC-6:20210406T110000
DTSTAMP:20211010T023904
CREATED:20210115T160700Z
LAST-MODIFIED:20210115T160700Z
UID:2922-1617699600-1617706800@gbep.texas.gov
SUMMARY:Budget & Priorities Subcommittee Virtual Meeting
DESCRIPTION:Email Lisa Marshall with questions at Lisa.Marshall@tceq.texas.gov. \n
URL:https://gbep.texas.gov/calendar1/budget-priorities-subcommittee-virtual-meeting-2/
LOCATION:Virtual Meeting\, Microsoft Teams
END:VEVENT
END:VCALENDAR