BEGIN:VCALENDAR
VERSION:2.0
PRODID:-//GBEP - ECPv4.6.23//NONSGML v1.0//EN
CALSCALE:GREGORIAN
METHOD:PUBLISH
X-WR-CALNAME:GBEP
X-ORIGINAL-URL:https://gbep.texas.gov
X-WR-CALDESC:Events for GBEP
BEGIN:VEVENT
DTSTART;TZID=UTC-6:20210412T133000
DTEND;TZID=UTC-6:20210412T153000
DTSTAMP:20211010T023840
CREATED:20210325T135506Z
LAST-MODIFIED:20210325T135506Z
UID:2961-1618234200-1618241400@gbep.texas.gov
SUMMARY:Natural Resource Uses Subcommittee Virtual Meeting
DESCRIPTION:Email Lindsey Lippert with questions at Lindsey.Lippert@tceq.texas.gov. \n
URL:https://gbep.texas.gov/calendar1/natural-resource-uses-subcommittee-virtual-meeting-2/
LOCATION:Virtual Meeting\, Microsoft Teams
END:VEVENT
END:VCALENDAR