BEGIN:VCALENDAR
VERSION:2.0
PRODID:-//GBEP - ECPv4.6.23//NONSGML v1.0//EN
CALSCALE:GREGORIAN
METHOD:PUBLISH
X-WR-CALNAME:GBEP
X-ORIGINAL-URL:https://gbep.texas.gov
X-WR-CALDESC:Events for GBEP
BEGIN:VEVENT
DTSTART;VALUE=DATE:20210327
DTEND;VALUE=DATE:20210330
DTSTAMP:20211010T023844
CREATED:20201203T203423Z
LAST-MODIFIED:20201203T203906Z
UID:2879-1616803200-1617062399@gbep.texas.gov
SUMMARY:Trash Bash 2021
DESCRIPTION:Trash Bash 2021 – Will Be Going Virtual!\nLearn more at www.trashbash.org \n
URL:https://gbep.texas.gov/calendar1/trash-bash-2021/
END:VEVENT
END:VCALENDAR